Workbook

Sheet SAŽETAK
A1: 1. IZMJENE I DOPUNE FINANCIJSKOG PLANA GRADSKE KNJIŽNICE I ČITAONICE LIPIK ZA 2025. GODINU
A3: I. OPĆI DIO
A5: A) SAŽETAK RAČUNA PRIHODA I RASHODA
L6: EUR/KN*
F7: Izvršenje 2022.** | G7: Plan 2023.** | H7: Plan za 2025. | I7: Povećanje / smanjenje | J7: Novi plan 2025. | K7: Projekcija za 2025. | L7: Projekcija za 2026.
A8: PRIHODI UKUPNO | F8: =F10+F12 -> #REF! | G8: =G10+G12 -> #REF! | H8: =H10+H12 -> 54150 | I8: =I10+I12 -> 157375 | J8: =J10+J12 -> 211525 | K8: =K10+K12 -> #REF! | L8: =L10+L12 -> #REF!
A9: PRIHODI UKUPNO - KN | F9: =F11+F13 -> 372871.22 | G9: =G11+G13 -> #REF! | H9: =H11+H13 -> 407993 | K9: =K11+K13 -> #REF! | L9: =L11+L13 -> #REF!
A10: PRIHODI POSLOVANJA | F10: =' Račun prihoda i rashoda'!K10 -> #REF! | G10: =' Račun prihoda i rashoda'!L10 -> #REF! | H10: =' Račun prihoda i rashoda'!M10 -> 54150 | I10: =' Račun prihoda i rashoda'!N10 -> 157375 | J10: =' Račun prihoda i rashoda'!O10 -> 211525 | K10: =' Račun prihoda i rashoda'!P10 -> #REF! | L10: =' Račun prihoda i rashoda'!Q10 -> #REF!
A11: PRIHODI POSLOVANJA - KN | F11: 372871.22 | G11: =' Račun prihoda i rashoda'!G10 -> #REF! | H11: =H10*7.5345 -> 407993 | K11: =K10*7.5345 -> #REF! | L11: =L10*7.5345 -> #REF!
A12: PRIHODI OD PRODAJE NEFINANCIJSKE IMOVINE | F12: =' Račun prihoda i rashoda'!K19 -> 0 | G12: =' Račun prihoda i rashoda'!L19 -> 0 | H12: =' Račun prihoda i rashoda'!M19 -> 0 | I12: =' Račun prihoda i rashoda'!N19 -> 0 | J12: =' Račun prihoda i rashoda'!O19 -> 0 | K12: =' Račun prihoda i rashoda'!P19 -> 0 | L12: =' Račun prihoda i rashoda'!Q19 -> 0
A13: PRIHODI OD PRODAJE NEFINANCIJSKE IMOVINE - KN | F13: =' Račun prihoda i rashoda'!E19 -> 0 | G13: =' Račun prihoda i rashoda'!G20 -> 0 | H13: =H12*7.5345 -> 0 | K13: =K12*7.5345 -> 0 | L13: =L12*7.5345 -> 0
A14: RASHODI UKUPNO | F14: =F16+F18 -> #REF! | G14: =G16+G18 -> #REF! | H14: =H16+H18 -> 54150 | I14: =I16+I18 -> 157375 | J14: =J16+J18 -> 211525 | K14: =K16+K18 -> #REF! | L14: =L16+L18 -> #REF!
A15: RASHODI UKUPNO - KN | F15: =F17+F19 -> 373022.47 | G15: =G17+G19 -> #REF! | H15: =H17+H19 -> 407993 | K15: =K17+K19 -> #REF! | L15: =L17+L19 -> #REF!
A16: RASHODI POSLOVANJA | F16: =' Račun prihoda i rashoda'!K26 -> #REF! | G16: =' Račun prihoda i rashoda'!L26 -> #REF! | H16: =' Račun prihoda i rashoda'!M26 -> 46150 | I16: =' Račun prihoda i rashoda'!N26 -> -525 | J16: =' Račun prihoda i rashoda'!O26 -> 45625 | K16: =' Račun prihoda i rashoda'!P26 -> #REF! | L16: =' Račun prihoda i rashoda'!Q26 -> #REF!
A17: RASHODI POSLOVANJA - KN | F17: 341742.21 | G17: =' Račun prihoda i rashoda'!G26 -> #REF! | H17: =H16*7.5345 -> 347717 | K17: =K16*7.5345 -> #REF! | L17: =L16*7.5345 -> #REF!
A18: RASHODI ZA NABAVU NEFINANCIJSKE IMOVINE | F18: =' Račun prihoda i rashoda'!K37 -> #REF! | G18: =' Račun prihoda i rashoda'!L37 -> #REF! | H18: =' Račun prihoda i rashoda'!M37 -> 8000 | I18: =' Račun prihoda i rashoda'!N37 -> 157900 | J18: =' Račun prihoda i rashoda'!O37 -> 165900 | K18: =' Račun prihoda i rashoda'!P37 -> #REF! | L18: =' Račun prihoda i rashoda'!Q37 -> #REF!
A19: RASHODI ZA NABAVU NEFINANCIJSKE IMOVINE - KN | F19: 31280.26 | G19: =' Račun prihoda i rashoda'!G37 -> #REF! | H19: =H18*7.5345 -> 60276 | K19: =K18*7.5345 -> #REF! | L19: =L18*7.5345 -> #REF!
A20: RAZLIKA - VIŠAK / MANJAK | F20: =F8-F14 -> #REF! | G20: =G8-G14 -> #REF! | H20: =H8-H14 -> 0 | I20: =I8-I14 -> 0 | J20: =J8-J14 -> 0 | K20: =K8-K14 -> #REF! | L20: =L8-L14 -> #REF!
A21: RAZLIKA - VIŠAK / MANJAK - KN | F21: =F9-F15 -> -151.25 | G21: =G9-G15 -> #REF! | H21: =H9-H15 -> 0 | K21: =K9-K15 -> #REF! | L21: =L9-L15 -> #REF!
A23: B) SAŽETAK RAČUNA FINANCIRANJA
F25: Izvršenje 2022.** | G25: Plan 2023.** | H25: Plan za 2025. | I25: Povećanje / smanjenje | J25: Novi plan 2025. | K25: Projekcija za 2025. | L25: Projekcija za 2026.
A26: PRIMICI OD FINANCIJSKE IMOVINE I ZADUŽIVANJA | F26: 0 | G26: 0 | H26: 0 | I26: 0 | J26: 0 | K26: 0 | L26: 0
A27: IZDACI ZA FINANCIJSKU IMOVINU I OTPLATE ZAJMOVA | F27: 0 | G27: 0 | H27: 0 | I27: 0 | J27: 0 | K27: 0 | L27: 0
A28: NETO FINANCIRANJE | F28: =SUM(F26:F27) -> 0 | G28: =SUM(G26:G27) -> 0 | H28: =SUM(H26:H27) -> 0 | I28: =SUM(I26:I27) -> 0 | J28: =SUM(J26:J27) -> 0 | K28: =SUM(K26:K27) -> 0 | L28: =SUM(L26:L27) -> 0
A30: C) PRENESENI VIŠAK ILI PRENESENI MANJAK I VIŠEGODIŠNJI PLAN URAVNOTEŽENJA
F32: Izvršenje 2022.** | G32: Plan 2023.** | H32: Plan za 2025. | I32: Povećanje / smanjenje | J32: Novi plan 2025. | K32: Projekcija za 2025. | L32: Projekcija za 2026.
A33: UKUPAN DONOS VIŠKA / MANJKA IZ PRETHODNE(IH) GODINE***
A34: VIŠAK / MANJAK IZ PRETHODNE(IH) GODINE KOJI ĆE SE RASPOREDITI / POKRITI | F34: 0 | G34: 0 | H34: 0 | I34: 0 | J34: 0 | K34: 0 | L34: 0
A37: VIŠAK / MANJAK + NETO FINANCIRANJE | F37: 0 | G37: 0 | H37: 0 | I37: 0 | J37: 0 | K37: 0 | L37: 0

Sheet  Račun prihoda i rashoda
A1: 1. IZMJENE I DOPUNE FINANCIJSKOG PLANA GRADSKE KNJIŽNICE I ČITAONICE LIPIK ZA 2025. GODINU
A3: I. OPĆI DIO
A5: A. RAČUN PRIHODA I RASHODA
A7: PRIHODI POSLOVANJA
A9: Razred | B9: Skupina | C9: Izvor | D9: Naziv prihoda | E9: Izvršenje 2021.- kn | F9: Izvršenje 2021. | G9: Plan 2022.- kn | H9: Plan 2022. | I9: Plan za 2023. | J9: Povećanje / smanjenje | K9: Izvršenje 2022. | L9: Plan 2023. | M9: Plan za 2025. | N9: Povećanje / smanjenje | O9: Novi plan 2025. | P9: Projekcija za 2025. | Q9: Projekcija za 2026.
A10: 6 | D10: Prihodi poslovanja | E10: =E11+E13+E15+E19 -> #REF! | F10: =F11+F13+F15+F19 -> #REF! | G10: =G11+G13+G15+G19 -> #REF! | H10: =H11+H13+H15+H19 -> #REF! | I10: =I11+I13+I15+I19 -> #REF! | J10: =J11+J13+J15+J19 -> #REF! | K10: =K11+K13+K15+K19 -> #REF! | L10: =L11+L13+L15+L19 -> #REF! | M10: =M11+M13+M15+M19 -> 54150 | N10: =O10-M10 -> 157375 | O10: =O11+O13+O15+O19 -> 211525 | P10: =P11+P13+P15+P19 -> #REF! | Q10: =Q11+Q13+Q15+Q19 -> #REF!
B11: 63 | D11: Pomoći iz inozemstva i od subjekata unutar općeg proračuna | E11: =E12 -> #REF! | F11: =F12 -> #REF! | G11: =G12 -> #REF! | H11: =H12 -> #REF! | I11: =I12 -> #REF! | J11: =J12 -> #REF! | K11: =K12 -> #REF! | L11: =L12 -> #REF! | M11: =M12 -> 8000 | N11: =O11-M11 -> 117175 | O11: =O12 -> 125175 | P11: =P12 -> #REF! | Q11: =Q12 -> #REF!
B12: 63622 | C12: 5.2.2. | D12: Ostale pomoći | E12: ='POSEBNI DIO'!E12 -> #REF! | F12: ='POSEBNI DIO'!F12 -> #REF! | G12: ='POSEBNI DIO'!G12 -> #REF! | H12: ='POSEBNI DIO'!H12 -> #REF! | I12: ='POSEBNI DIO'!J12 -> #REF! | J12: ='POSEBNI DIO'!K12 -> #REF! | K12: ='POSEBNI DIO'!L12 -> #REF! | L12: ='POSEBNI DIO'!M12 -> #REF! | M12: ='POSEBNI DIO'!N12 -> 8000 | N12: =O12-M12 -> 117175 | O12: ='POSEBNI DIO'!P12 -> 125175 | P12: ='POSEBNI DIO'!Q12 -> #REF! | Q12: ='POSEBNI DIO'!R12 -> #REF!
B13: 65 | D13: Ostali nespomenuti prohodi | E13: =E14 -> #REF! | F13: =F14 -> #REF! | G13: =G14 -> #REF! | H13: =H14 -> #REF! | I13: =I14 -> #REF! | J13: =J14 -> #REF! | K13: =K14 -> #REF! | L13: =L14 -> #REF! | M13: =M14 -> 600 | N13: =O13-M13 -> -100 | O13: =O14 -> 500 | P13: =P14 -> #REF! | Q13: =Q14 -> #REF!
B14: 65264 | C14: 4.4. | D14: Ostali prihodi za posebne namjene | E14: ='POSEBNI DIO'!E11 -> #REF! | F14: ='POSEBNI DIO'!F11 -> #REF! | G14: ='POSEBNI DIO'!G11 -> #REF! | H14: ='POSEBNI DIO'!H11 -> #REF! | I14: ='POSEBNI DIO'!J11 -> #REF! | J14: ='POSEBNI DIO'!K11 -> #REF! | K14: ='POSEBNI DIO'!L11 -> #REF! | L14: ='POSEBNI DIO'!M11 -> #REF! | M14: ='POSEBNI DIO'!N11 -> 600 | N14: =O14-M14 -> -100 | O14: ='POSEBNI DIO'!P11 -> 500 | P14: ='POSEBNI DIO'!Q11 -> #REF! | Q14: ='POSEBNI DIO'!R11 -> #REF!
B15: 67 | D15: Prihodi iz nadležnog proračuna i od HZZO-a temeljem ugovornih obveza | E15: =E16+E17 -> #REF! | F15: =F16+F17 -> #REF! | G15: =G16+G17 -> #REF! | H15: =H16+H17 -> #REF! | I15: =I16+I17 -> #REF! | J15: =J16+J17 -> #REF! | K15: =K16+K17 -> 45246.69 | L15: =L16+L17 -> #REF! | M15: =M16+M17 -> 45550 | N15: =O15-M15 -> 40300 | O15: =O16+O17 -> 85850 | P15: =P16+P17 -> #REF! | Q15: =Q16+Q17 -> #REF!
B16: 67111 | C16: 1.1. | D16: Opći prihodi i primici | E16: ='POSEBNI DIO'!E14 -> #REF! | F16: ='POSEBNI DIO'!F14 -> #REF! | G16: ='POSEBNI DIO'!G14 -> #REF! | H16: ='POSEBNI DIO'!H14 -> #REF! | I16: ='POSEBNI DIO'!J14 -> #REF! | J16: ='POSEBNI DIO'!K14 -> #REF! | K16: ='POSEBNI DIO'!L14 -> 44678.61 | L16: ='POSEBNI DIO'!M14 -> #REF! | M16: ='POSEBNI DIO'!N14 -> 45550 | N16: =O16-M16 -> -3800 | O16: ='POSEBNI DIO'!P14 -> 41750 | P16: ='POSEBNI DIO'!Q14 -> #REF! | Q16: ='POSEBNI DIO'!R14 -> #REF!
B17: 67121 | C17: 1.1. | D17: Opći prihodi i primici | E17: ='POSEBNI DIO'!E78+'POSEBNI DIO'!E95 -> #REF! | F17: ='POSEBNI DIO'!F78+'POSEBNI DIO'!F95 -> #REF! | G17: ='POSEBNI DIO'!G78+'POSEBNI DIO'!G95 -> #REF! | H17: ='POSEBNI DIO'!H78+'POSEBNI DIO'!H95 -> #REF! | I17: ='POSEBNI DIO'!J78+'POSEBNI DIO'!J95 -> #REF! | J17: ='POSEBNI DIO'!K78+'POSEBNI DIO'!K95 -> #REF! | K17: ='POSEBNI DIO'!L78+'POSEBNI DIO'!L95 -> 568.08 | L17: ='POSEBNI DIO'!M78+'POSEBNI DIO'!M95 -> #REF! | M17: ='POSEBNI DIO'!N78+'POSEBNI DIO'!N95 -> 0 | N17: =O17-M17 -> 44100 | O17: ='POSEBNI DIO'!P78+'POSEBNI DIO'!P95 -> 44100 | P17: ='POSEBNI DIO'!Q78+'POSEBNI DIO'!Q95 -> #REF! | Q17: ='POSEBNI DIO'!R78+'POSEBNI DIO'!R95 -> #REF!
C18: 43 | D18: Ostali prihodi za posebne namjene
A19: 7 | D19: Prihodi od prodaje nefinancijske imovine
B20: 72 | D20: Prihodi od prodaje proizvedene dugotrajne imovine
C21: 11 | D21: Opći prihodi i primici
A23: RASHODI POSLOVANJA
A25: Razred | B25: Skupina | C25: Izvor | D25: Naziv rashoda | E25: Izvršenje 2021.- kn | F25: Izvršenje 2021. | G25: Plan 2022.- kn | H25: Plan 2022. | I25: Plan za 2023. | J25: Povećanje / smanjenje | K25: Izvršenje 2022. | L25: Plan 2023. | M25: Plan za 2025. | N25: Povećanje / smanjenje | O25: Novi plan 2025. | P25: Projekcija za 2025. | Q25: Projekcija za 2026.
A26: 3 | D26: Rashodi poslovanja | E26: =E27+E30+E34 -> #REF! | F26: =F27+F30+F34 -> #REF! | G26: =G27+G30+G34 -> #REF! | H26: =H27+H30+H34 -> #REF! | I26: =I27+I30+I34 -> #REF! | J26: =J27+J30+J34 -> #REF! | K26: =K27+K30+K34 -> #REF! | L26: =L27+L30+L34 -> #REF! | M26: =M27+M30+M34 -> 46150 | N26: =O26-M26 -> -525 | O26: =O27+O30+O34 -> 45625 | P26: =P27+P30+P34 -> #REF! | Q26: =Q27+Q30+Q34 -> #REF!
B27: 31 | D27: Rashodi za zaposlene | E27: =E28 -> 232377.23 | F27: =F28 -> #REF! | G27: =G28 -> 259135 | H27: =H28 -> #REF! | I27: =I28 -> #REF! | J27: =J28 -> #REF! | K27: =K28 -> 34206.43 | L27: =L28 -> 36370 | M27: =M28+M29 -> 32100 | N27: =O27-M27 -> -1060 | O27: =O28+O29 -> 31040 | P27: =P28 -> 39040 | Q27: =Q28 -> 39970
C28: 1.1. | D28: Opći prihodi i primici | E28: ='POSEBNI DIO'!E16 -> 232377.23 | F28: ='POSEBNI DIO'!F16 -> #REF! | G28: ='POSEBNI DIO'!G16 -> 259135 | H28: ='POSEBNI DIO'!H16 -> #REF! | I28: ='POSEBNI DIO'!J16 -> #REF! | J28: ='POSEBNI DIO'!K16 -> #REF! | K28: ='POSEBNI DIO'!L16 -> 34206.43 | L28: ='POSEBNI DIO'!M16 -> 36370 | M28: ='POSEBNI DIO'!N16 -> 32100 | N28: =O28-M28 -> -2800 | O28: ='POSEBNI DIO'!P16 -> 29300 | P28: ='POSEBNI DIO'!Q16 -> 39040 | Q28: ='POSEBNI DIO'!R16 -> 39970
C29: 5.2.2. | D29: Ostale pomoći | M29: ='POSEBNI DIO'!N67 -> 0 | N29: =O29-M29 -> 1740 | O29: ='POSEBNI DIO'!P67 -> 1740
B30: 32 | D30: Materijalni rashodi | E30: =E31+E32 -> #REF! | F30: =F31+F32 -> #REF! | G30: =G31+G32 -> #REF! | H30: =H31+H32 -> #REF! | I30: =I31+I32 -> #REF! | J30: =J31+J32 -> #REF! | K30: =K31+K32 -> #REF! | L30: =L31+L32 -> #REF! | M30: =M31+M32+M33 -> 13650 | N30: =O30-M30 -> 535 | O30: =O31+O32+O33 -> 14185 | P30: =P31+P32 -> #REF! | Q30: =Q31+Q32 -> #REF!
C31: 1.1. | D31: Opći prihodi i primici | E31: ='POSEBNI DIO'!E19 -> 6400 | F31: ='POSEBNI DIO'!F19 -> #REF! | G31: ='POSEBNI DIO'!G19 -> 4000 | H31: ='POSEBNI DIO'!H19 -> #REF! | I31: ='POSEBNI DIO'!J19 -> #REF! | J31: ='POSEBNI DIO'!K19 -> #REF! | K31: ='POSEBNI DIO'!L19 -> 1712 | L31: ='POSEBNI DIO'!M19 -> 1000 | M31: ='POSEBNI DIO'!N24 -> 13450 | N31: =O31-M31 -> -1100 | O31: ='POSEBNI DIO'!P24 -> 12350 | P31: ='POSEBNI DIO'!Q19 -> 1000 | Q31: ='POSEBNI DIO'!R19 -> 1000
C32: 4.4. | D32: Ostali prihodi za posebne namjene | E32: ='POSEBNI DIO'!#REF!-' Račun prihoda i rashoda'!E36 -> #REF! | F32: ='POSEBNI DIO'!#REF!-' Račun prihoda i rashoda'!F36 -> #REF! | G32: ='POSEBNI DIO'!#REF!-' Račun prihoda i rashoda'!G36 -> #REF! | H32: ='POSEBNI DIO'!#REF!-' Račun prihoda i rashoda'!H36 -> #REF! | I32: ='POSEBNI DIO'!#REF!-' Račun prihoda i rashoda'!I36 -> #REF! | J32: ='POSEBNI DIO'!#REF!-' Račun prihoda i rashoda'!J36 -> #REF! | K32: ='POSEBNI DIO'!#REF!-' Račun prihoda i rashoda'!K36 -> #REF! | L32: ='POSEBNI DIO'!#REF!-' Račun prihoda i rashoda'!L36 -> #REF! | M32: ='POSEBNI DIO'!N59 -> 200 | N32: =O32-M32 -> 0 | O32: ='POSEBNI DIO'!P59 -> 200 | P32: ='POSEBNI DIO'!#REF!-' Račun prihoda i rashoda'!P36 -> #REF! | Q32: ='POSEBNI DIO'!#REF!-' Račun prihoda i rashoda'!Q36 -> #REF!
C33: 5.2.2. | D33: Ostale pomoći | M33: ='POSEBNI DIO'!N72 -> 0 | N33: =O33-M33 -> 1635 | O33: ='POSEBNI DIO'!P72 -> 1635
B34: 34 | D34: Financijski rashodi | E34: =E36 -> 2525.79 | F34: =F36 -> #REF! | G34: =G36 -> 2800 | H34: =H36 -> #REF! | I34: =I36 -> #REF! | J34: =J36 -> #REF! | K34: =K36 -> 450.84 | L34: =L36 -> 380 | M34: =M35+M36 -> 400 | N34: =O34-M34 -> 0 | O34: =O35+O36 -> 400 | P34: =P36 -> 400 | Q34: =Q36 -> 400
C35: 1.1. | D35: Opći prihodi i primici | E35: ='POSEBNI DIO'!E22 -> 32005.32 | F35: ='POSEBNI DIO'!F22 -> #REF! | G35: ='POSEBNI DIO'!G22 -> 36135 | H35: ='POSEBNI DIO'!H22 -> #REF! | I35: ='POSEBNI DIO'!J22 -> #REF! | J35: ='POSEBNI DIO'!K22 -> #REF! | K35: ='POSEBNI DIO'!L22 -> 4602.22 | L35: ='POSEBNI DIO'!M22 -> 5040 | M35: ='POSEBNI DIO'!N53 -> 0 | N35: =O35-M35 -> 100 | O35: ='POSEBNI DIO'!P53 -> 100 | P35: ='POSEBNI DIO'!Q22 -> 5390 | Q35: ='POSEBNI DIO'!R22 -> 5520
C36: 4.4. | D36: Ostali prihodi za posebne namjene | E36: ='POSEBNI DIO'!E53 -> 2525.79 | F36: ='POSEBNI DIO'!F53 -> #REF! | G36: ='POSEBNI DIO'!G53 -> 2800 | H36: ='POSEBNI DIO'!H53 -> #REF! | I36: ='POSEBNI DIO'!J53 -> #REF! | J36: ='POSEBNI DIO'!K53 -> #REF! | K36: ='POSEBNI DIO'!L53 -> 450.84 | L36: ='POSEBNI DIO'!M53 -> 380 | M36: ='POSEBNI DIO'!N62 -> 400 | N36: =O36-M36 -> -100 | O36: ='POSEBNI DIO'!P62 -> 300 | P36: ='POSEBNI DIO'!Q53 -> 400 | Q36: ='POSEBNI DIO'!R53 -> 400
A37: 4 | D37: Rashodi za nabavu nefinancijske imovine | E37: =E38+E40 -> #REF! | F37: =F38+F40 -> #REF! | G37: =G38+G40 -> #REF! | H37: =H38+H40 -> #REF! | I37: =I38+I40+I43 -> #REF! | J37: =J38+J40+J43 -> #REF! | K37: =K38+K40+K43 -> #REF! | L37: =L38+L40+L43 -> #REF! | M37: =M40+M43 -> 8000 | N37: =O37-M37 -> 157900 | O37: =O40+O43 -> 165900 | P37: =P38+P40+P43 -> #REF! | Q37: =Q38+Q40+Q43 -> #REF!
B38: 41 | D38: Rashodi za nabavu neproizvedene dugotrajne imovine | N38: =O38-M38 -> 0
C39: 11 | D39: Opći prihodi i primici | N39: =O39-M39 -> 0
B40: 42 | D40: Rashodi za nabavu proizvedene dugotrajne imovine | E40: =E41+E42 -> #REF! | F40: =F41+F42 -> #REF! | G40: =G41+G42 -> #REF! | H40: =H41+H42 -> #REF! | I40: =I41+I42 -> #REF! | J40: =J41+J42 -> #REF! | K40: =K41+K42 -> #REF! | L40: =L41+L42 -> #REF! | M40: =M41+M42 -> 8000 | N40: =O40-M40 -> 3000 | O40: =O41+O42 -> 11000 | P40: =P41+P42 -> #REF! | Q40: =Q41+Q42 -> #REF!
C41: 1.1. | D41: Opći prihodi i primici | E41: ='POSEBNI DIO'!E78+'POSEBNI DIO'!E95 -> #REF! | F41: ='POSEBNI DIO'!F78+'POSEBNI DIO'!F95 -> #REF! | G41: ='POSEBNI DIO'!G78+'POSEBNI DIO'!G95 -> #REF! | H41: ='POSEBNI DIO'!H78+'POSEBNI DIO'!H95 -> #REF! | I41: ='POSEBNI DIO'!J78+'POSEBNI DIO'!J95-'POSEBNI DIO'!J83 -> #REF! | J41: ='POSEBNI DIO'!K78+'POSEBNI DIO'!K95-'POSEBNI DIO'!K83 -> #REF! | K41: ='POSEBNI DIO'!L78+'POSEBNI DIO'!L95-K44 -> 568.08 | L41: ='POSEBNI DIO'!M78+'POSEBNI DIO'!M95-L44 -> #REF! | M41: ='POSEBNI DIO'!N80 -> 0 | N41: =O41-M41 -> 800 | O41: ='POSEBNI DIO'!P80 -> 800 | P41: ='POSEBNI DIO'!Q78+'POSEBNI DIO'!Q95-P44 -> #REF! | Q41: ='POSEBNI DIO'!R78+'POSEBNI DIO'!R95-Q44 -> #REF!
C42: 5.2.2. | D42: Ostale pomoći | E42: ='POSEBNI DIO'!#REF!+'POSEBNI DIO'!E96 -> #REF! | F42: ='POSEBNI DIO'!#REF!+'POSEBNI DIO'!F96 -> #REF! | G42: ='POSEBNI DIO'!#REF!+'POSEBNI DIO'!G96 -> #REF! | H42: ='POSEBNI DIO'!#REF!+'POSEBNI DIO'!H96 -> #REF! | I42: ='POSEBNI DIO'!#REF!+'POSEBNI DIO'!J96-'POSEBNI DIO'!J83 -> #REF! | J42: ='POSEBNI DIO'!#REF!+'POSEBNI DIO'!K96 -> #REF! | K42: ='POSEBNI DIO'!#REF!+'POSEBNI DIO'!L96-K45 -> #REF! | L42: ='POSEBNI DIO'!#REF!+'POSEBNI DIO'!M96-L45 -> #REF! | M42: ='POSEBNI DIO'!N88 -> 8000 | N42: =O42-M42 -> 2200 | O42: ='POSEBNI DIO'!P88 -> 10200 | P42: ='POSEBNI DIO'!#REF!+'POSEBNI DIO'!Q96-P45 -> #REF! | Q42: ='POSEBNI DIO'!#REF!+'POSEBNI DIO'!R96-Q45 -> #REF!
B43: 45 | D43: Rashodi za dodatna ulaganja na nefinancijskoj imovini | I43: =I44+I45 -> 0 | J43: =J44+J45 -> 13000 | K43: =K44+K45 -> 0 | L43: =L44+L45 -> 13000 | M43: =M44+M45 -> 0 | N43: =O43-M43 -> 154900 | O43: =O44+O45 -> 154900 | P43: =P44+P45 -> 0 | Q43: =Q44+Q45 -> 0
C44: 1.1. | D44: Opći prihodi i primici | E44: ='POSEBNI DIO'!E80+'POSEBNI DIO'!E98 -> #REF! | F44: ='POSEBNI DIO'!F80+'POSEBNI DIO'!F98 -> #REF! | G44: ='POSEBNI DIO'!G80+'POSEBNI DIO'!G98 -> #REF! | H44: ='POSEBNI DIO'!H80+'POSEBNI DIO'!H98 -> #REF! | I44: ='POSEBNI DIO'!J83 -> 0 | J44: ='POSEBNI DIO'!K83 -> 13000 | K44: ='POSEBNI DIO'!L83 -> 0 | L44: ='POSEBNI DIO'!M83 -> 13000 | M44: ='POSEBNI DIO'!N83 -> 0 | N44: =O44-M44 -> 43300 | O44: ='POSEBNI DIO'!P83 -> 43300 | P44: ='POSEBNI DIO'!Q83 -> 0 | Q44: ='POSEBNI DIO'!R83 -> 0
C45: 5.2.2. | D45: Ostale pomoći | E45: ='POSEBNI DIO'!#REF!+'POSEBNI DIO'!E99 -> #REF! | F45: ='POSEBNI DIO'!#REF!+'POSEBNI DIO'!F99 -> #REF! | G45: ='POSEBNI DIO'!#REF!+'POSEBNI DIO'!G99 -> #REF! | H45: ='POSEBNI DIO'!#REF!+'POSEBNI DIO'!H99 -> #REF! | I45: 0 | J45: 0 | K45: 0 | L45: 0 | M45: ='POSEBNI DIO'!N91 -> 0 | N45: =O45-M45 -> 111600 | O45: ='POSEBNI DIO'!P91 -> 111600 | P45: 0 | Q45: 0
J47: =2515+12850-2500 -> 12865 | K47: =K28+K31+K39+K41+K44 -> 36486.51 | L47: =L28+L31+L39+L41+L44 -> #REF! | M47: =M28+M31+M39+M41+M44 -> 45550 | O47: =O28+O31+O39+O41+O44 -> 85750 | P47: =P28+P31+P39+P41+P44 -> #REF! | Q47: =Q28+Q31+Q39+Q41+Q44 -> #REF!
...

Sheet Rashodi prema funkcijskoj kl
A1: 1. IZMJENE I DOPUNE FINANCIJSKOG PLANA GRADSKE KNJIŽNICE I ČITAONICE LIPIK ZA 2025. GODINU
A3: I. OPĆI DIO
A5: A. RAČUN PRIHODA I RASHODA
A7: RASHODI PREMA FUNKCIJSKOJ KLASIFIKACIJI
A9: BROJČANA OZNAKA I NAZIV | B9: Izvršenje 2021.- kn | C9: Izvršenje 2021. | D9: Plan 2022.- kn | E9: Plan 2022. | F9: Plan za 2023. | G9: Povećanje / smanjenje | H9: Izvršenje 2022. | I9: Plan 2023. | J9: Plan za 2025. | K9: Povećanje / smanjenje | L9: Novi plan 2025.
A10: UKUPNI RASHODI | C10: =C11 -> #REF! | E10: =E11 -> #REF! | F10: =F11 -> #REF! | G10: =G11 -> #REF! | H10: =H11 -> #REF! | I10: =I11 -> #REF! | J10: =J11 -> 54150 | K10: =K11 -> 157375 | L10: =L11 -> 211525
A11: 08 Rekreacija,kultura i religija | B11: =B12 -> #REF! | C11: =C12 -> #REF! | D11: =D12 -> #REF! | E11: =E12 -> #REF! | F11: =F12 -> #REF! | G11: =G12 -> #REF! | H11: =H12 -> #REF! | I11: =I12 -> #REF! | ... L11: =L12 -> 211525
A12: 082 Službe kulture | B12: ='POSEBNI DIO'!E9 -> #REF! | C12: ='POSEBNI DIO'!F9 -> #REF! | D12: ='POSEBNI DIO'!G9 -> #REF! | E12: ='POSEBNI DIO'!H9 -> #REF! | F12: ='POSEBNI DIO'!J9 -> #REF! | G12: ='POSEBNI DIO'!K9 -> #REF! | H12: ='POSEBNI DIO'!L9 -> #REF! | I12: ='POSEBNI DIO'!M9 -> #REF! | J12: ='POSEBNI DIO'!N9 -> 54150 | K12: ='POSEBNI DIO'!O9 -> 157375 | L12: ='POSEBNI DIO'!P9 -> 211525
A13: 01 Opće javne usluge
A14: 011 Izvršna i zakonodavna tijela, financijski i fiskalni poslovi
A15: 013 Opće usluge
A16: 04 Ekonomski poslovi
A17: 041 Opći ekonomski, trgovački i poslovi vezani uz rad

Sheet Račun financiranja
A1: 1. IZMENE I DOPUNE FINANCIJSKOG PLANA GRADSKE KNJIŽNICE I ČITAONICE LIPIK ZA 2025. GODINU
A3: I. OPĆI DIO
A5: B. RAČUN FINANCIRANJA
A7: Razred | B7: Skupina | C7: Izvor | D7: Naziv | E7: Izvršenje 2022. | F7: Plan 2023. | G7: Plan za 2025. | H7: Povećanje / smanjenje | I7: Novi plan 2025. | J7: Projekcija za 2025. | K7: Projekcija za 2026.
A8: 8 | D8: Primici od financijske imovine i zaduživanja | E8: 0 | F8: 0 | G8: 0 | H8: 0 | I8: 0 | J8: 0 | K8: 0
B9: 84 | D9: Primici od zaduživanja | E9: 0 | F9: 0 | G9: 0 | H9: 0 | I9: 0 | J9: 0 | K9: 0
C10: 81 | D10: Namjenski primici od zaduživanja | E10: 0 | F10: 0 | G10: 0 | H10: 0 | I10: 0 | J10: 0 | K10: 0
A11: 5 | D11: Izdaci za financijsku imovinu i otplate zajmova | E11: 0 | F11: 0 | G11: 0 | H11: 0 | I11: 0 | J11: 0 | K11: 0
B12: 54 | D12: Izdaci za otplatu glavnice primljenih kredita i zajmova | E12: 0 | F12: 0 | G12: 0 | H12: 0 | I12: 0 | J12: 0 | K12: 0
C13: 11 | D13: Opći prihodi i primici | E13: 0 | F13: 0 | G13: 0 | H13: 0 | I13: 0 | J13: 0 | K13: 0
C14: 31 | D14: Vlastiti prihodi | E14: 0 | F14: 0 | G14: 0 | H14: 0 | I14: 0 | J14: 0 | K14: 0

Sheet POSEBNI DIO
A1: 1. IZMJENE I DOPUNE FINANCIJSKOG PLANA GRADSKE KNJIŽNICE I ČITAONICE LIPIK ZA 2025.
A3: II. POSEBNI DIO
A5: Šifra | D5: Naziv | E5: Izvršenje 2021.- kn | F5: Izvršenje 2021. | G5: Plan 2022.- kn | H5: Plan 2022. | I5: Plan za 2023.- kn | J5: Plan za 2023.-stari | K5: Povećanje/ smanjenje | L5: Izvršenje 2022. | M5: Plan 2023. | N5: Plan za 2025. | O5: Povećanje / smanjenje | P5: Novi plan 2025. | Q5: Projekcija za 2025. | R5: Projekcija za 2026.
A6: Razdjel 003 | D6: JEDINSTVENI UPRAVNI ODJEL | E6: =E13+E77+E95 -> #REF! | F6: =F13+F77+F95 -> #REF! | G6: =G13+G77+G95 -> #REF! | H6: =H13+H77+H95 -> #REF! | I6: =I13+I77+I95 -> #REF! | J6: =J13+J77+J95 -> #REF! | K6: =K13+K77+K95 -> #REF! | L6: =L13+L77+L95 -> #REF! | M6: =M13+M77+M95 -> #REF! | N6: =N7 -> 54150 | O6: =P6-N6 -> 157375 | P6: =P7 -> 211525 | Q6: =Q13+Q77+Q95 -> #REF! | R6: =R13+R77+R95 -> #REF!
A7: Glava 00303 | D7: GRADSKA KNJIŽNICA I ČITAONICA LIPIK | E7: =E14+E78+E96 -> #REF! | F7: =F14+F78+F96 -> #REF! | G7: =G14+G78+G96 -> #REF! | H7: =H14+H78+H96 -> #REF! | I7: =I14+I78+I96 -> #REF! | J7: =J14+J78+J96 -> #REF! | K7: =K14+K78+K96 -> #REF! | L7: =L14+L78+L96 -> 45246.69 | M7: =M14+M78+M96 -> #REF! | N7: =N8 -> 54150 | O7: =P7-N7 -> 157375 | P7: =P8 -> 211525 | Q7: =Q14+Q78+Q96 -> #REF! | R7: =R14+R78+R96 -> #REF!
A8: Proračunski korisnik 48111 | D8: GRADSKA KNJIŽNICA I ČITAONICA LIPIK | E8: =E14+E78+E96 -> #REF! | F8: =F14+F78+F96 -> #REF! | G8: =G14+G78+G96 -> #REF! | H8: =H14+H78+H96 -> #REF! | I8: =I14+I78+I96 -> #REF! | J8: =J14+J78+J96 -> #REF! | K8: =K14+K78+K96 -> #REF! | L8: =L14+L78+L96 -> 45246.69 | M8: =M14+M78+M96 -> #REF! | N8: =N9 -> 54150 | O8: =P8-N8 -> 157375 | P8: =P9 -> 211525 | Q8: =Q14+Q78+Q96 -> #REF! | R8: =R14+R78+R96 -> #REF!
A9: PROGRAM 5000 | D9: NAZIV PROGRAMA:Promicanje kulture | E9: =E15+E79+E97 -> #REF! | F9: =F15+F79+F97 -> #REF! | G9: =G15+G79+G97 -> #REF! | H9: =H15+H79+H97 -> #REF! | I9: =I15+I79+I97 -> #REF! | J9: =J15+J79+J97 -> #REF! | K9: =K15+K79+K97 -> #REF! | L9: =L15+L79+L97 -> #REF! | M9: =M15+M79+M97 -> #REF! | N9: =N13+N77 -> 54150 | O9: =P9-N9 -> 157375 | P9: =P13+P77 -> 211525 | Q9: =Q15+Q79+Q97 -> #REF! | R9: =R15+R79+R97 -> #REF!
A10: Izvor financiranja 1.1. | D10: Naziv izvora financiranja:Opći prihodi i primitci | E10: =E14+E78+E95 -> #REF! | F10: =F14+F78+F95 -> #REF! | G10: =G14+G78+G95 -> #REF! | H10: =H14+H78+H95 -> #REF! | I10: =I14+I78+I95 -> #REF! | J10: =J14+J78+J95 -> #REF! | K10: =M10-J10 -> #REF! | L10: =L14+L78+L95 -> 45246.69 | M10: =M14+M78+M95 -> #REF! | N10: =N14+N78 -> 45550 | O10: =P10-N10 -> 40300 | P10: =P14+P78 -> 85850 | Q10: =Q14+Q78+Q95 -> #REF! | R10: =R14+R78+R95 -> #REF!
A11: Izvor financiranja 4.4. | D11: Naziv izvora financiranja:Prihodi za posebne namjene | E11: =#REF! -> #REF! | F11: =#REF! -> #REF! | G11: =#REF! -> #REF! | H11: =#REF! -> #REF! | I11: =#REF! -> #REF! | J11: =#REF! -> #REF! | K11: =M11-J11 -> #REF! | L11: =#REF! -> #REF! | M11: =#REF! -> #REF! | N11: =N57 -> 600 | O11: =P11-N11 -> -100 | P11: =P57 -> 500 | Q11: =#REF! -> #REF! | R11: =#REF! -> #REF!
A12: Izvor financiranja 5.2.2. | D12: Naziv izvora financiranja:Ostale pomoći | E12: =#REF!+E96 -> #REF! | F12: =#REF!+F96 -> #REF! | G12: =#REF!+G96 -> #REF! | H12: =#REF!+H96 -> #REF! | I12: =#REF!+I96 -> #REF! | J12: =#REF!+J96 -> #REF! | K12: =M12-J12 -> #REF! | L12: =#REF!+L96 -> #REF! | M12: =#REF!+M96 -> #REF! | N12: =N65+N86 -> 8000 | O12: =P12-N12 -> 117175 | P12: =P65+P86 -> 125175 | Q12: =#REF!+Q96 -> #REF! | R12: =#REF!+R96 -> #REF!
A13: Aktivnost A5000 01 | D13: NAZIV AKTIVNOSTI:Administrativno, tehničko i stručno osoblje | E13: =E14+#REF! -> #REF! | F13: =F14+#REF! -> #REF! | G13: =G15 -> 337235 | H13: =H15 -> #REF! | I13: =I15 -> 370648.62 | J13: =J15 -> #REF! | K13: =K15 -> #REF! | L13: =L15 -> 43762.1 | M13: =M15 -> 53395 | N13: =N14+N57+N65 -> 46150 | O13: =P13-N13 -> -525 | P13: =P14+P57+P65 -> 45625 | Q13: =Q15 -> 51220 | R13: =R15 -> 52960
A14: Izvor financiranja 1.1. | D14: Naziv izvora financiranja:Opći prihodi i primitci | E14: =284454.86+7466.48-E78 -> #REF! | F14: =ROUND(E14/#REF!, 2) -> #REF! | G14: =G13-#REF! -> #REF! | H14: =H13-#REF! -> #REF! | I14: =I13-#REF! -> #REF! | J14: =J13-#REF! -> #REF! | K14: =M14-J14 -> #REF! | L14: =336630.96/7.5345 -> 44678.61 | M14: =M13-#REF! -> #REF! | N14: =N15 -> 45550 | O14: =P14-N14 -> -3800 | P14: =P15 -> 41750 | Q14: =Q13-#REF! -> #REF! | R14: =R13-#REF! -> #REF!
A15: 3 | D15: Rashodi poslovanja | E15: =E16+E24+E53 -> 289531.99 | F15: =F16+F24+F53 -> #REF! | G15: =G16+G24+G53 -> 337235 | H15: =H16+H24+H53 -> #REF! | I15: =I16+I24+I53 -> 370648.62 | J15: =J16+J24+J53 -> #REF! | K15: =K16+K24+K53 -> #REF! | L15: =L16+L24+L53 -> 43762.1 | ... N15: =N16+N24+N53 -> 45550 | O15: =P15-N15 -> -3800 | P15: =P16+P24+P53 -> 41750 | Q15: =Q16+Q24+Q53 -> 51220 | R15: =R16+R24+R53 -> 52960
A16: 31 | D16: Rashodi za zaposlene | E16: =E17+E19+E22 -> 232377.23 | F16: =F17+F19+F22 -> #REF! | G16: =G17+G19+G22 -> 259135 | H16: =H17+H19+H22 -> #REF! | I16: =I17+I19+I22 -> 274028.62 | J16: =J17+J19+J22 -> #REF! | K16: =K17+K19+K22 -> #REF! | L16: =L17+L19+L22 -> 34206.43 | ... N16: =N17+N19+N22 -> 32100 | O16: =P16-N16 -> -2800 | P16: =P17+P19+P22 -> 29300 | Q16: =Q17+Q19+Q22 -> 39040 | R16: =R17+R19+R22 -> 39970
A17: 311 | D17: Plaće (Bruto) | E17: =E18 -> 193971.91 | F17: =F18 -> #REF! | G17: =G18 -> 219000 | H17: =H18 -> #REF! | I17: =I18 -> 230028 | J17: =J18 -> #REF! | K17: =K18 -> #REF! | L17: =L18 -> 27892.21 | ... N17: =N18 -> 26700 | O17: =P17-N17 -> -2000 | P17: =P18 -> 24700 | Q17: =Q18 -> 32650 | R17: =R18 -> 33450
A18: 3111 | D18: Plaće (Bruto) | E18: 193971.91 | F18: =ROUND(E18/#REF!, 2) -> #REF! | G18: 219000 | H18: =ROUND(G18/#REF!, 2) -> #REF! | I18: 230028 | J18: =ROUND(I18/#REF!, 2) -> #REF! | K18: =M18-J18 -> #REF! | L18: =210153.88/7.5345 -> 27892.21 | M18: 30330 | N18: 26700 | O18: =P18-N18 -> -2000 | P18: 24700 | Q18: 32650 | R18: 33450
A19: 312 | D19: Ostali rashodi za zaposlene | E19: =E20+E21 -> 6400 | F19: =F20+F21 -> #REF! | G19: =G20+G21 -> 4000 | H19: =H20+H21 -> #REF! | I19: =I20+I21 -> 6026 | J19: =J20+J21 -> #REF! | K19: =K20+K21 -> #REF! | L19: =L20+L21 -> 1712 | M19: =M20+M21 -> 1000 | N19: =SUM(N20:N21) -> 1000 | O19: =P19-N19 -> -400 | P19: =SUM(P20:P21) -> 600 | Q19: =Q20+Q21 -> 1000 | R19: =R20+R21 -> 1000
A20: 31216 | D20: Regres | E20: 2000 | F20: =ROUND(E20/#REF!, 2) -> #REF! | G20: 2000 | H20: =ROUND(G20/#REF!, 2) -> #REF! | I20: 3026 | J20: =ROUND(I20/#REF!, 2) -> #REF! | K20: =M20-J20 -> #REF! | L20: =12899.1/7.5345 -> 1712 | M20: 402 | N20: 400 | O20: =P20-N20 -> -200 | P20: 200 | Q20: 400 | R20: 400
A21: 31219 | D21: Darovi djeci zaposlenika i nagrada | E21: 4400 | F21: =ROUND(E21/#REF!, 2) -> #REF! | G21: 2000 | H21: =ROUND(G21/#REF!, 2) -> #REF! | I21: 3000 | J21: =ROUND(I21/#REF!, 2) -> #REF! | K21: =M21-J21 -> #REF! | L21: 0 | M21: =398+200 -> 598 | N21: 600 | O21: =P21-N21 -> -200 | P21: 400 | Q21: 600 | R21: 600
A22: 313 | D22: Doprinosi na plaće | E22: =E23 -> 32005.32 | F22: =F23 -> #REF! | G22: =G23 -> 36135 | H22: =H23 -> #REF! | I22: =I23 -> 37974.62 | J22: =J23 -> #REF! | K22: =K23 -> #REF! | L22: =L23 -> 4602.22 | ... N22: =N23 -> 4400 | O22: =P22-N22 -> -400 | P22: =P23 -> 4000 | Q22: =Q23 -> 5390 | R22: =R23 -> 5520
A23: 3132 | D23: Doprinos za zdravstveno osiguranje | E23: =E18*16.5/100-0.05 -> 32005.32 | F23: =ROUND(E23/#REF!, 2) -> #REF! | G23: =G18*16.5/100 -> 36135 | H23: =ROUND(G23/#REF!, 2) -> #REF! | I23: =I18*16.5/100+20 -> 37974.62 | J23: =ROUND(I23/#REF!, 2) -> #REF! | K23: =M23-J23 -> #REF! | L23: =34675.39/7.5345 -> 4602.22 | M23: 5040 | N23: 4400 | O23: =P23-N23 -> -400 | P23: 4000 | Q23: 5390 | R23: 5520
A24: 32 | D24: Materijalni rashodi | E24: =E25+E30+E36+E46 -> 54628.97 | F24: =F25+F30+F36+F46 -> #REF! | G24: =G25+G30+G36+G46 -> 75300 | H24: =H25+H30+H36+H46 -> #REF! | I24: =I25+I30+I36+I46 -> 94020 | J24: =J25+J30+J36+J46 -> #REF! | K24: =K25+K30+K36+K46 -> #REF! | L24: =L25+L30+L36+L46 -> 9104.83 | ... N24: =N25+N30+N36+N46 -> 13450 | O24: =P24-N24 -> -1100 | P24: =P25+P30+P36+P46 -> 12350 | Q24: =Q25+Q30+Q36+Q46 -> 11780 | R24: =R25+R30+R36+R46 -> 12590
A25: 321 | D25: Naknade troškova zaposlenima | E25: =SUM(E26:E29) -> 12326 | F25: =SUM(F26:F29) -> #REF! | G25: =SUM(G26:G29) -> 17500 | H25: =SUM(H26:H29) -> #REF! | I25: =SUM(I26:I29) -> 17400 | J25: =SUM(J26:J29) -> #REF! | K25: =SUM(K26:K29) -> #REF! | L25: =SUM(L26:L29) -> 1977.56 | ... N25: =SUM(N26:N29) -> 900 | O25: =P25-N25 -> -300 | P25: =SUM(P26:P29) -> 600 | Q25: =SUM(Q26:Q29) -> 2410 | R25: =SUM(R26:R29) -> 2410
A26: 32111 | D26: Dnevnice za službeni put | E26: 0 | F26: =ROUND(E26/#REF!, 2) -> #REF! | G26: 1000 | H26: =ROUND(G26/#REF!, 2) -> #REF! | I26: 1130 | J26: =ROUND(I26/#REF!, 2) -> #REF! | K26: =M26-J26 -> #REF! | L26: =170/7.5345 -> 22.56 | M26: 150 | N26: 200 | O26: =P26-N26 -> -150 | P26: 50 | Q26: 150 | R26: 150
A27: 32119 | D27: Ostali troškovi službenih putovanja | E27: 0 | F27: =ROUND(E27/#REF!, 2) -> #REF! | G27: 500 | H27: =ROUND(G27/#REF!, 2) -> #REF! | I27: 450 | J27: =ROUND(I27/#REF!, 2) -> #REF! | K27: =M27-J27 -> #REF! | L27: 0 | M27: 60 | N27: 100 | O27: =P27-N27 -> -50 | P27: 50 | Q27: 60 | R27: 60
A28: 32121 | D28: Naknade za prijevoz | E28: 12326 | F28: =ROUND(E28/#REF!, 2) -> #REF! | G28: 15000 | H28: =ROUND(G28/#REF!, 2) -> #REF! | I28: 15070 | J28: =ROUND(I28/#REF!, 2) -> #REF! | K28: =M28-J28 -> #REF! | L28: =14729.92/7.5345 -> 1955 | M28: 2000 | N28: 500 | O28: =P28-N28 -> 0 | P28: 500 | Q28: 2100 | R28: 2100
A29: 32131 | D29: Stručno usavršavanje zaposlenika | E29: 0 | F29: =ROUND(E29/#REF!, 2) -> #REF! | G29: 1000 | H29: =ROUND(G29/#REF!, 2) -> #REF! | I29: 750 | J29: =ROUND(I29/#REF!, 2) -> #REF! | K29: =M29-J29 -> #REF! | L29: 0 | M29: 100 | N29: 100 | O29: =P29-N29 -> -100 | P29: 0 | Q29: 100 | R29: 100
A30: 322 | D30: Rashodi za materijal i energiju | E30: =SUM(E31:E35) -> 8888.46 | F30: =SUM(F31:F35) -> #REF! | G30: =SUM(G31:G35) -> 13000 | H30: =SUM(H31:H35) -> #REF! | I30: =SUM(I31:I35) -> 17330 | J30: =SUM(J31:J35) -> #REF! | K30: =SUM(K31:K35) -> #REF! | L30: =SUM(L31:L35) -> 1079.8 | ... N30: =SUM(N31:N35) -> 3700 | O30: =P30-N30 -> -700 | P30: =SUM(P31:P35) -> 3000 | Q30: =SUM(Q31:Q35) -> 2400 | R30: =SUM(R31:R35) -> 2500
A31: 3221 | D31: Uredski materijal i ostali materijalni rashodi | E31: 1150.43 | F31: =ROUND(E31/#REF!, 2) -> #REF! | G31: 1000 | H31: =ROUND(G31/#REF!, 2) -> #REF! | I31: 1130 | J31: =ROUND(I31/#REF!, 2) -> #REF! | K31: =M31-J31 -> #REF! | L31: =1992.79/7.5345 -> 264.49 | M31: 150 | N31: 1500 | O31: =P31-N31 -> -700 | P31: 800 | Q31: 150 | R31: 150
A32: 3222 | D32: Materijal i sirovine | E32: 0 | F32: =ROUND(E32/#REF!, 2) -> #REF! | G32: 0 | H32: =ROUND(G32/#REF!, 2) -> #REF! | I32: 0 | J32: =ROUND(I32/#REF!, 2) -> #REF! | K32: =M32-J32 -> #REF! | L32: 0 | M32: 0 | N32: 0 | O32: =P32-N32 -> 0 | P32: 0 | Q32: 0 | R32: 0
A33: 32231 | D33: Potrošak el.energije za zgradu | E33: 1004.16 | F33: =ROUND(E33/#REF!, 2) -> #REF! | G33: 2000 | H33: =ROUND(G33/#REF!, 2) -> #REF! | I33: 3015 | J33: =ROUND(I33/#REF!, 2) -> #REF! | K33: =M33-J33 -> #REF! | L33: =1471.16/7.5345 -> 195.26 | M33: 400 | N33: 500 | O33: =P33-N33 -> 0 | P33: 500 | Q33: 500 | R33: 600
A34: 32233 | D34: Potrošak plina za zgradu | E34: 6402.62 | F34: =ROUND(E34/#REF!, 2) -> #REF! | G34: 8000 | H34: =ROUND(G34/#REF!, 2) -> #REF! | I34: 11305 | J34: =ROUND(I34/#REF!, 2) -> #REF! | K34: =M34-J34 -> #REF! | L34: =4671.77/7.5345 -> 620.05 | M34: 1500 | N34: 1400 | O34: =P34-N34 -> 0 | P34: 1400 | Q34: 1500 | R34: 1500
A35: 32251 | D35: Sitan inventar | E35: 331.25 | F35: =ROUND(E35/#REF!, 2) -> #REF! | G35: 2000 | H35: =ROUND(G35/#REF!, 2) -> #REF! | I35: 1880 | J35: =ROUND(I35/#REF!, 2) -> #REF! | K35: =M35-J35 -> #REF! | L35: 0 | M35: 250 | N35: 300 | O35: =P35-N35 -> 0 | P35: 300 | Q35: 250 | R35: 250
A36: 323 | D36: Rashodi za usluge | E36: =SUM(E37:E45) -> 20010.4 | F36: =SUM(F37:F45) -> #REF! | G36: =SUM(G37:G45) -> 26300 | H36: =SUM(H37:H45) -> #REF! | I36: =SUM(I37:I45) -> 41210 | J36: =SUM(J37:J45) -> #REF! | K36: =SUM(K37:K45) -> #REF! | L36: =SUM(L37:L45) -> 3717.42 | ... N36: =SUM(N37:N45) -> 6300 | O36: =P36-N36 -> -100 | P36: =SUM(P37:P45) -> 6200 | Q36: =SUM(Q37:Q45) -> 4320 | R36: =SUM(R37:R45) -> 4930
A37: 3231 | D37: Troškovi telefona i telefaksa,poštarina | E37: =6093.15+258.1 -> 6351.25 | F37: =ROUND(E37/#REF!, 2) -> #REF! | G37: 7500 | H37: =ROUND(G37/#REF!, 2) -> #REF! | I37: 5050 | J37: =ROUND(I37/#REF!, 2) -> #REF! | K37: =M37-J37 -> #REF! | L37: =6478.26/7.5345 -> 859.81 | M37: 670 | N37: 650 | O37: =P37-N37 -> 0 | P37: 650 | Q37: =700+150 -> 850 | R37: =700+150 -> 850
A38: 3232 | D38: Usluge tekućeg i investicijskog održavanja | E38: 0 | F38: =ROUND(E38/#REF!, 2) -> #REF! | G38: 1000 | H38: =ROUND(G38/#REF!, 2) -> #REF! | I38: 20345 | J38: =ROUND(I38/#REF!, 2) -> #REF! | K38: =M38-J38 -> #REF! | L38: 0 | M38: 2700 | N38: 150 | O38: =P38-N38 -> 0 | P38: 150 | Q38: 150 | R38: 150
A39: 3233 | D39: Usluge promidžbe i informiranja | E39: 0 | F39: =ROUND(E39/#REF!, 2) -> #REF! | G39: 0 | H39: =ROUND(G39/#REF!, 2) -> #REF! | I39: 0 | J39: =ROUND(I39/#REF!, 2) -> #REF! | K39: =M39-J39 -> #REF! | L39: =1270/7.5345 -> 168.56 | M39: 0 | N39: 1000 | O39: =P39-N39 -> 0 | P39: 1000 | Q39: 420 | R39: 450
A40: 32341 | D40: Potrošak vode u zgradi | E40: 601.41 | F40: =ROUND(E40/#REF!, 2) -> #REF! | G40: 1000 | H40: =ROUND(G40/#REF!, 2) -> #REF! | I40: 1505 | J40: =ROUND(I40/#REF!, 2) -> #REF! | K40: =M40-J40 -> #REF! | L40: =791.37/7.5345 -> 105.03 | M40: 200 | N40: 200 | O40: =P40-N40 -> 100 | P40: 300 | Q40: 200 | R40: 200
A41: 32342 | D41: Odvoz smeća iz zgrade | E41: 2417.74 | F41: =ROUND(E41/#REF!, 2) -> #REF! | G41: 2000 | H41: =ROUND(G41/#REF!, 2) -> #REF! | I41: 1505 | J41: =ROUND(I41/#REF!, 2) -> #REF! | K41: =M41-J41 -> #REF! | L41: =2484.25/7.5345+0.01 -> 329.73 | M41: 200 | N41: 300 | O41: =P41-N41 -> 200 | P41: 500 | Q41: 300 | R41: 300
A42: 3236 | D42: Zdravstvene i vet.usluge,laboratorijske usl. | E42: 830 | F42: =ROUND(E42/#REF!, 2) -> #REF! | G42: 2800 | H42: =ROUND(G42/#REF!, 2) -> #REF! | I42: 0 | J42: =ROUND(I42/#REF!, 2) -> #REF! | K42: =M42-J42 -> #REF! | L42: =3600/7.5345 -> 477.8 | M42: 0 | N42: 0 | O42: =P42-N42 -> 0 | P42: 0 | Q42: 0 | R42: 380
...
