Workbook

Sheet SAŽETAK
A1: FINANCIJSKI PLAN GRADSKE KNJIŽNICE I ČITAONICE LIPIK ZA 2026. I PROJEKCIJA ZA 2027. I 2028. GODINU
A3: I. OPĆI DIO
A5: A) SAŽETAK RAČUNA PRIHODA I RASHODA
F7: Izvršenje 2024. | G7: Plan 2025. | H7: Plan za 2026. | I7: Projekcija za 2027. | J7: Projekcija za 2028.
A8: PRIHODI UKUPNO | F8: =F9+F10 -> #REF! | G8: =G9+G10 -> 54150 | H8: =H9+H10 -> 78050 | I8: =I9+I10 -> 84050 | J8: =J9+J10 -> 89150
A9: PRIHODI POSLOVANJA | F9: =' Račun prihoda i rashoda'!K19 -> #REF! | G9: =' Račun prihoda i rashoda'!L10 -> 54150 | H9: =' Račun prihoda i rashoda'!M10 -> 78050 | I9: =' Račun prihoda i rashoda'!N10 -> 84050 | J9: =' Račun prihoda i rashoda'!O10 -> 89150
A10: PRIHODI OD PRODAJE NEFINANCIJSKE IMOVINE | F10: =' Račun prihoda i rashoda'!#REF! -> #REF! | G10: 0 | H10: 0 | I10: 0 | J10: 0
A11: RASHODI UKUPNO | F11: =F12+F13 -> #REF! | G11: =G12+G13 -> 54150 | H11: =H12+H13 -> 78050 | I11: =I12+I13 -> 84050 | J11: =J12+J13 -> 89150
A12: RASHODI POSLOVANJA | F12: =' Račun prihoda i rashoda'!#REF! -> #REF! | G12: =' Račun prihoda i rashoda'!L26 -> 46150 | H12: =' Račun prihoda i rashoda'!M26 -> 68050 | I12: =' Račun prihoda i rashoda'!N26 -> 74050 | J12: =' Račun prihoda i rashoda'!O26 -> 79150
A13: RASHODI ZA NABAVU NEFINANCIJSKE IMOVINE | F13: =' Račun prihoda i rashoda'!#REF! -> #REF! | G13: =' Račun prihoda i rashoda'!L41 -> 8000 | H13: =' Račun prihoda i rashoda'!M41 -> 10000 | I13: =' Račun prihoda i rashoda'!N41 -> 10000 | J13: =' Račun prihoda i rashoda'!O41 -> 10000
A14: RAZLIKA - VIŠAK / MANJAK | F14: =F8-F11 -> #REF! | G14: =G8-G11 -> 0 | H14: =H8-H11 -> 0 | I14: =I8-I11 -> 0 | J14: =J8-J11 -> 0
A16: B) SAŽETAK RAČUNA FINANCIRANJA
F18: Izvršenje 2024. | G18: Plan 2025. | H18: Plan za 2026. | I18: Projekcija za 2027. | J18: Projekcija za 2028.
A19: PRIMICI OD FINANCIJSKE IMOVINE I ZADUŽIVANJA | F19: 0 | G19: 0 | H19: 0 | I19: 0 | J19: 0
A20: IZDACI ZA FINANCIJSKU IMOVINU I OTPLATE ZAJMOVA | F20: 0 | G20: 0 | H20: 0 | I20: 0 | J20: 0
A21: NETO FINANCIRANJE | F21: =SUM(F19:F20) -> 0 | G21: =SUM(G19:G20) -> 0 | H21: =SUM(H19:H20) -> 0 | I21: =SUM(I19:I20) -> 0 | J21: =SUM(J19:J20) -> 0
A23: C) PRENESENI VIŠAK ILI PRENESENI MANJAK I VIŠEGODIŠNJI PLAN URAVNOTEŽENJA
F25: Izvršenje 2024. | G25: Plan 2025. | H25: Plan za 2026. | I25: Projekcija za 2027. | J25: Projekcija za 2028.
A26: UKUPAN DONOS VIŠKA / MANJKA IZ PRETHODNE(IH) GODINE
A27: VIŠAK / MANJAK IZ PRETHODNE(IH) GODINE KOJI ĆE SE RASPOREDITI / POKRITI | F27: 0 | G27: 0 | H27: 0 | I27: 0 | J27: 0
A30: VIŠAK / MANJAK + NETO FINANCIRANJE | F30: 0 | G30: 0 | H30: 0 | I30: 0 | J30: 0

Sheet  Račun prihoda i rashoda
A1: FINANCIJSKI PLAN GRADSKE KNJIŽNICE I ČITAONICE LIPIK ZA 2026. I PROJEKCIJA ZA 2027. I 2028. GODINU
A3: I. OPĆI DIO
A5: A. RAČUN PRIHODA I RASHODA
A7: PRIHODI POSLOVANJA
A9: Razred | B9: Skupina | C9: Izvor | D9: Naziv prihoda | E9: Izvršenje 2021.- kn | F9: Izvršenje 2021. | G9: Plan 2022.- kn | H9: Plan 2022. | I9: Plan za 2023. | J9: Povećanje / smanjenje | K9: Izvršenje 2022. | L9: Novi plan 2025. | M9: Plan za 2026. | N9: Projekcija za 2027. | O9: Projekcija za 2028.
A10: 6 | D10: Prihodi poslovanja | E10: =E11+E13+E15+E19 -> #REF! | F10: =F11+F13+F15+F19 -> #REF! | G10: =G11+G13+G15+G19 -> #REF! | H10: =H11+H13+H15+H19 -> #REF! | I10: =I11+I13+I15+I19 -> #REF! | J10: =J11+J13+J15+J19 -> #REF! | K10: =K11+K13+K15+K19 -> #REF! | L10: =L11+L13+L15 -> 54150 | M10: =M11+M13+M15 -> 78050 | N10: =N11+N13+N15 -> 84050 | O10: =O11+O13+O15 -> 89150
B11: 63 | D11: Pomoći iz inozemstva i od subjekata unutar općeg proračuna | E11: =E12 -> #REF! | F11: =F12 -> #REF! | G11: =G12 -> #REF! | H11: =H12 -> #REF! | I11: =I12 -> #REF! | J11: =J12 -> #REF! | K11: =K12 -> #REF! | L11: =L12 -> 8000 | ... O11: =O12 -> 8000
B12: 63622 | C12: 5.2.2. | D12: Ostale pomoći | E12: ='[1]POSEBNI DIO'!E12 -> #REF! | F12: ='[1]POSEBNI DIO'!F12 -> #REF! | G12: ='[1]POSEBNI DIO'!G12 -> #REF! | H12: ='[1]POSEBNI DIO'!H12 -> #REF! | I12: ='[1]POSEBNI DIO'!J12 -> #REF! | J12: ='[1]POSEBNI DIO'!K12 -> #REF! | K12: ='[1]POSEBNI DIO'!L12 -> #REF! | L12: ='POSEBNI DIO'!E11 -> 8000 | M12: ='POSEBNI DIO'!F11 -> 8000 | N12: ='POSEBNI DIO'!G11 -> 8000 | O12: ='POSEBNI DIO'!H11 -> 8000
B13: 65 | D13: Ostali nespomenuti prohodi | E13: =E14 -> #REF! | F13: =F14 -> #REF! | G13: =G14 -> #REF! | H13: =H14 -> #REF! | I13: =I14 -> #REF! | J13: =J14 -> #REF! | K13: =K14 -> #REF! | L13: =L14 -> 600 | ... O13: =O14 -> 600
B14: 65264 | C14: 4.4. | D14: Ostali prihodi za posebne namjene | E14: ='[1]POSEBNI DIO'!E11 -> #REF! | F14: ='[1]POSEBNI DIO'!F11 -> #REF! | G14: ='[1]POSEBNI DIO'!G11 -> #REF! | H14: ='[1]POSEBNI DIO'!H11 -> #REF! | I14: ='[1]POSEBNI DIO'!J11 -> #REF! | J14: ='[1]POSEBNI DIO'!K11 -> #REF! | K14: ='[1]POSEBNI DIO'!L11 -> #REF! | L14: ='POSEBNI DIO'!E10 -> 600 | M14: ='POSEBNI DIO'!F10 -> 600 | N14: ='POSEBNI DIO'!G10 -> 600 | O14: ='POSEBNI DIO'!H10 -> 600
B15: 67 | D15: Prihodi iz nadležnog proračuna i od HZZO-a temeljem ugovornih obveza | E15: =E16+E17 -> #REF! | F15: =F16+F17 -> #REF! | G15: =G16+G17 -> #REF! | H15: =H16+H17 -> #REF! | I15: =I16+I17 -> #REF! | J15: =J16+J17 -> #REF! | K15: =K16+K17 -> 45246.69 | L15: =L16+L17 -> 45550 | ... O15: =O16+O17 -> 80550
B16: 67111 | C16: 1.1. | D16: Opći prihodi i primici | E16: ='[1]POSEBNI DIO'!E14 -> #REF! | F16: ='[1]POSEBNI DIO'!F14 -> #REF! | G16: ='[1]POSEBNI DIO'!G14 -> #REF! | H16: ='[1]POSEBNI DIO'!H14 -> #REF! | I16: ='[1]POSEBNI DIO'!J14 -> #REF! | J16: ='[1]POSEBNI DIO'!K14 -> #REF! | K16: ='[1]POSEBNI DIO'!L14 -> 44678.61 | L16: ='POSEBNI DIO'!E13 -> 45550 | M16: ='POSEBNI DIO'!F13 -> 67450 | N16: ='POSEBNI DIO'!G13 -> 73450 | O16: ='POSEBNI DIO'!H13 -> 78550
B17: 67121 | C17: 1.1. | D17: Opći prihodi i primici | E17: ='[1]POSEBNI DIO'!E78+'[1]POSEBNI DIO'!E95 -> #REF! | F17: ='[1]POSEBNI DIO'!F78+'[1]POSEBNI DIO'!F95 -> #REF! | G17: ='[1]POSEBNI DIO'!G78+'[1]POSEBNI DIO'!G95 -> #REF! | H17: ='[1]POSEBNI DIO'!H78+'[1]POSEBNI DIO'!H95 -> #REF! | I17: ='[1]POSEBNI DIO'!J78+'[1]POSEBNI DIO'!J95 -> #REF! | J17: ='[1]POSEBNI DIO'!K78+'[1]POSEBNI DIO'!K95 -> #REF! | K17: ='[1]POSEBNI DIO'!L78+'[1]POSEBNI DIO'!L95 -> 568.08 | L17: ='POSEBNI DIO'!E78 -> 0 | M17: ='POSEBNI DIO'!F78 -> 2000 | N17: ='POSEBNI DIO'!G78 -> 2000 | O17: ='POSEBNI DIO'!H78 -> 2000
A18: Razred | B18: Skupina | C18: Izvor | D18: Naziv prihoda | E18: Izvršenje 2021.- kn | F18: Izvršenje 2021. | G18: Plan 2022.- kn | H18: Plan 2022. | I18: Plan za 2023. | J18: Povećanje / smanjenje | K18: Izvršenje 2024. | L18: Plan 2025. | M18: Plan za 2026. | N18: Projekcija za 2027. | O18: Projekcija za 2028.
A19: 6 | D19: Prihodi poslovanja | E19: =E20+#REF!+#REF!+#REF! -> #REF! | F19: =F20+#REF!+#REF!+#REF! -> #REF! | G19: =G20+#REF!+#REF!+#REF! -> #REF! | H19: =H20+#REF!+#REF!+#REF! -> #REF! | I19: =I20+#REF!+#REF!+#REF! -> #REF! | J19: =J20+#REF!+#REF!+#REF! -> #REF! | K19: =K20+#REF!+#REF!+#REF! -> #REF! | L19: =L20+#REF!+#REF!+#REF! -> #REF! | ... O19: =O20+#REF!+#REF!+#REF! -> #REF!
B20: 63 | D20: Pomoći iz inozemstva i od subjekata unutar općeg proračuna | E20: =E21 -> #REF! | F20: =F21 -> #REF! | G20: =G21 -> #REF! | H20: =H21 -> #REF! | I20: =I21 -> #REF! | J20: =J21 -> #REF! | K20: =K21 -> #REF! | L20: =L21 -> 8000 | ... O20: =O21 -> 8000
B21: 63622 | C21: 5011 | D21: Ostale pomoći | E21: ='POSEBNI DIO'!#REF! -> #REF! | F21: ='POSEBNI DIO'!#REF! -> #REF! | G21: ='POSEBNI DIO'!#REF! -> #REF! | H21: ='POSEBNI DIO'!#REF! -> #REF! | I21: ='POSEBNI DIO'!#REF! -> #REF! | J21: ='POSEBNI DIO'!#REF! -> #REF! | K21: ='POSEBNI DIO'!#REF! -> #REF! | L21: ='POSEBNI DIO'!E11 -> 8000 | M21: ='POSEBNI DIO'!F11 -> 8000 | N21: ='POSEBNI DIO'!G11 -> 8000 | O21: ='POSEBNI DIO'!H11 -> 8000
A23: RASHODI POSLOVANJA
A25: Razred | B25: Skupina | C25: Izvor | D25: Naziv rashoda | E25: Izvršenje 2021.- kn | F25: Izvršenje 2021. | G25: Plan 2022.- kn | H25: Plan 2022. | I25: Plan za 2023. | J25: Povećanje / smanjenje | K25: Izvršenje 2022. | L25: Plan 2025. | M25: Plan za 2026. | N25: Projekcija za 2027. | O25: Projekcija za 2028.
A26: 3 | D26: Rashodi poslovanja | E26: =E27+E30+E34 -> #REF! | F26: =F27+F30+F34 -> #REF! | G26: =G27+G30+G34 -> #REF! | H26: =H27+H30+H34 -> #REF! | I26: =I27+I30+I34 -> #REF! | J26: =J27+J30+J34 -> #REF! | K26: =K27+K30+K34 -> #REF! | L26: =L27+L30+L34 -> 46150 | ... O26: =O27+O30+O34 -> 79150
B27: 31 | D27: Rashodi za zaposlene | E27: =E28 -> 232377.23 | F27: =F28 -> #REF! | G27: =G28 -> 259135 | H27: =H28 -> #REF! | I27: =I28 -> #REF! | J27: =J28 -> #REF! | K27: =K28 -> 34206.43 | L27: =L28+L29 -> 32100 | M27: =M28+M29 -> 53600 | N27: =N28+N29 -> 58900 | O27: =O28+O29 -> 64700
C28: 1.1. | D28: Opći prihodi i primici | E28: ='[1]POSEBNI DIO'!E16 -> 232377.23 | F28: ='[1]POSEBNI DIO'!F16 -> #REF! | G28: ='[1]POSEBNI DIO'!G16 -> 259135 | H28: ='[1]POSEBNI DIO'!H16 -> #REF! | I28: ='[1]POSEBNI DIO'!J16 -> #REF! | J28: ='[1]POSEBNI DIO'!K16 -> #REF! | K28: ='[1]POSEBNI DIO'!L16 -> 34206.43 | L28: ='POSEBNI DIO'!E15 -> 32100 | M28: ='POSEBNI DIO'!F15 -> 53600 | N28: ='POSEBNI DIO'!G15 -> 58900 | O28: ='POSEBNI DIO'!H15 -> 64700
C29: 5.0. | D29: Ostale pomoći | L29: ='POSEBNI DIO'!E67 -> 0 | M29: ='POSEBNI DIO'!F67 -> 0 | N29: ='POSEBNI DIO'!G67 -> 0 | O29: ='POSEBNI DIO'!H67 -> 0
B30: 32 | D30: Materijalni rashodi | E30: =E31+E32 -> #REF! | F30: =F31+F32 -> #REF! | G30: =G31+G32 -> #REF! | H30: =H31+H32 -> #REF! | I30: =I31+I32 -> #REF! | J30: =J31+J32 -> #REF! | K30: =K31+K32 -> #REF! | L30: =L31+L32+L33 -> 13650 | M30: =M31+M32+M33 -> 14450 | N30: =N31+N32+N33 -> 15150 | O30: =O31+O32+O33 -> 14450
C31: 1.1. | D31: Opći prihodi i primici | E31: ='[1]POSEBNI DIO'!E19 -> 6400 | F31: ='[1]POSEBNI DIO'!F19 -> #REF! | G31: ='[1]POSEBNI DIO'!G19 -> 4000 | H31: ='[1]POSEBNI DIO'!H19 -> #REF! | I31: ='[1]POSEBNI DIO'!J19 -> #REF! | J31: ='[1]POSEBNI DIO'!K19 -> #REF! | K31: ='[1]POSEBNI DIO'!L19 -> 1712 | L31: ='POSEBNI DIO'!E23 -> 13450 | M31: ='POSEBNI DIO'!F23 -> 13850 | N31: ='POSEBNI DIO'!G23 -> 14550 | O31: ='POSEBNI DIO'!H23 -> 13850
C32: 4.4. | D32: Ostali prihodi za posebne namjene | E32: ='[1]POSEBNI DIO'!#REF!-'[1] Račun prihoda i rashoda'!E36 -> #REF! | F32: ='[1]POSEBNI DIO'!#REF!-'[1] Račun prihoda i rashoda'!F36 -> #REF! | G32: ='[1]POSEBNI DIO'!#REF!-'[1] Račun prihoda i rashoda'!G36 -> #REF! | H32: ='[1]POSEBNI DIO'!#REF!-'[1] Račun prihoda i rashoda'!H36 -> #REF! | I32: ='[1]POSEBNI DIO'!#REF!-'[1] Račun prihoda i rashoda'!I36 -> #REF! | J32: ='[1]POSEBNI DIO'!#REF!-'[1] Račun prihoda i rashoda'!J36 -> #REF! | K32: ='[1]POSEBNI DIO'!#REF!-'[1] Račun prihoda i rashoda'!K36 -> #REF! | L32: ='POSEBNI DIO'!E59 -> 200 | M32: ='POSEBNI DIO'!F59 -> 600 | N32: ='POSEBNI DIO'!G59 -> 600 | O32: ='POSEBNI DIO'!H59 -> 600
C33: 5.0. | D33: Ostale pomoći | L33: ='POSEBNI DIO'!E72 -> 0 | M33: ='POSEBNI DIO'!F72 -> 0 | N33: ='POSEBNI DIO'!G72 -> 0 | O33: ='POSEBNI DIO'!H72 -> 0
B34: 34 | D34: Financijski rashodi | E34: =E36 -> 2525.79 | F34: =F36 -> #REF! | G34: =G36 -> 2800 | H34: =H36 -> #REF! | I34: =I36 -> #REF! | J34: =J36 -> #REF! | K34: =K36 -> 450.84 | L34: =L35+L40 -> 400 | M34: =M35 -> 0 | N34: =N35 -> 0 | O34: =O35 -> 0
C35: 1.1. | D35: Opći prihodi i primici | E35: ='[1]POSEBNI DIO'!E22 -> 32005.32 | F35: ='[1]POSEBNI DIO'!F22 -> #REF! | G35: ='[1]POSEBNI DIO'!G22 -> 36135 | H35: ='[1]POSEBNI DIO'!H22 -> #REF! | I35: ='[1]POSEBNI DIO'!J22 -> #REF! | J35: ='[1]POSEBNI DIO'!K22 -> #REF! | K35: ='[1]POSEBNI DIO'!L22 -> 4602.22 | L35: ='POSEBNI DIO'!E54 -> 0 | M35: ='POSEBNI DIO'!F54 -> 0 | N35: ='POSEBNI DIO'!G54 -> 0 | O35: ='POSEBNI DIO'!H54 -> 0
C36: 4.4. | D36: Ostali prihodi za posebne namjene | E36: ='[1]POSEBNI DIO'!E53 -> 2525.79 | F36: ='[1]POSEBNI DIO'!F53 -> #REF! | G36: ='[1]POSEBNI DIO'!G53 -> 2800 | H36: ='[1]POSEBNI DIO'!H53 -> #REF! | I36: ='[1]POSEBNI DIO'!J53 -> #REF! | J36: ='[1]POSEBNI DIO'!K53 -> #REF! | K36: ='[1]POSEBNI DIO'!L53 -> 450.84 | L36: ='[1]POSEBNI DIO'!P62 -> 300 | M36: ='[1]POSEBNI DIO'!Q62 -> #REF! | N36: ='[1]POSEBNI DIO'!R62 -> #REF! | O36: ='[1]POSEBNI DIO'!S62 -> 0
A37: 4 | D37: Rashodi za nabavu nefinancijske imovine | E37: =E38+E42 -> #REF! | F37: =F38+F42 -> #REF! | G37: =G38+G42 -> #REF! | H37: =H38+H42 -> #REF! | I37: =I38+I42+I45 -> #REF! | J37: =J38+J42+J45 -> #REF! | K37: =K38+K42+K45 -> #REF! | L37: =L42+L45 -> 8000 | M37: =M42+M45 -> 10000 | N37: =N42+N45 -> 10000 | O37: =O42+O45 -> 10000
B38: 41 | D38: Rashodi za nabavu neproizvedene dugotrajne imovine
C39: 11 | D39: Opći prihodi i primici
C40: 4.4. | D40: Ostali prihodi za posebne namjene | E40: ='[1]POSEBNI DIO'!E57 -> 291921.34 | F40: ='[1]POSEBNI DIO'!F57 -> #REF! | G40: ='[1]POSEBNI DIO'!G57 -> #REF! | H40: ='[1]POSEBNI DIO'!H57 -> #REF! | I40: ='[1]POSEBNI DIO'!J57 -> #REF! | J40: ='[1]POSEBNI DIO'!K57 -> #REF! | K40: ='[1]POSEBNI DIO'!L57 -> 44678.61 | L40: ='POSEBNI DIO'!E62 -> 400 | M40: ='[1]POSEBNI DIO'!N66 -> 0 | N40: ='POSEBNI DIO'!G62 -> 0 | O40: ='POSEBNI DIO'!H62 -> 0
A41: 4 | D41: Rashodi za nabavu nefinancijske imovine | E41: =E42+E44 -> #REF! | F41: =F42+F44 -> #REF! | G41: =G42+G44 -> #REF! | H41: =H42+H44 -> #REF! | I41: =I42+I44+I47 -> #REF! | J41: =J42+J44+J47 -> #REF! | K41: =K42+K44+K47 -> #REF! | L41: =L42+L45 -> 8000 | M41: =M42+M45 -> 10000 | N41: =N42+N45 -> 10000 | O41: =O42+O45 -> 10000
B42: 42 | D42: Rashodi za nabavu proizvedene dugotrajne imovine | E42: =E43+E44 -> #REF! | F42: =F43+F44 -> #REF! | G42: =G43+G44 -> #REF! | H42: =H43+H44 -> #REF! | I42: =I43+I44 -> #REF! | J42: =J43+J44 -> #REF! | K42: =K43+K44 -> #REF! | L42: =L43+L44 -> 8000 | ... O42: =O43+O44 -> 10000
C43: 1.1. | D43: Opći prihodi i primici | E43: ='[1]POSEBNI DIO'!E78+'[1]POSEBNI DIO'!E95 -> #REF! | F43: ='[1]POSEBNI DIO'!F78+'[1]POSEBNI DIO'!F95 -> #REF! | G43: ='[1]POSEBNI DIO'!G78+'[1]POSEBNI DIO'!G95 -> #REF! | H43: ='[1]POSEBNI DIO'!H78+'[1]POSEBNI DIO'!H95 -> #REF! | I43: ='[1]POSEBNI DIO'!J78+'[1]POSEBNI DIO'!J95-'[1]POSEBNI DIO'!J83 -> #REF! | J43: ='[1]POSEBNI DIO'!K78+'[1]POSEBNI DIO'!K95-'[1]POSEBNI DIO'!K83 -> #REF! | K43: ='[1]POSEBNI DIO'!L78+'[1]POSEBNI DIO'!L95-K46 -> 568.08 | L43: ='POSEBNI DIO'!E80 -> 0 | M43: ='POSEBNI DIO'!F80 -> 2000 | N43: ='POSEBNI DIO'!G80 -> 2000 | O43: ='POSEBNI DIO'!H80 -> 2000
C44: 5.0. | D44: Ostale pomoći | E44: ='[1]POSEBNI DIO'!#REF!+'[1]POSEBNI DIO'!E96 -> #REF! | F44: ='[1]POSEBNI DIO'!#REF!+'[1]POSEBNI DIO'!F96 -> #REF! | G44: ='[1]POSEBNI DIO'!#REF!+'[1]POSEBNI DIO'!G96 -> #REF! | H44: ='[1]POSEBNI DIO'!#REF!+'[1]POSEBNI DIO'!H96 -> #REF! | I44: ='[1]POSEBNI DIO'!#REF!+'[1]POSEBNI DIO'!J96-'[1]POSEBNI DIO'!J83 -> #REF! | J44: ='[1]POSEBNI DIO'!#REF!+'[1]POSEBNI DIO'!K96 -> #REF! | K44: ='[1]POSEBNI DIO'!#REF!+'[1]POSEBNI DIO'!L96-K47 -> #REF! | L44: ='POSEBNI DIO'!E89 -> 8000 | M44: ='POSEBNI DIO'!F89 -> 8000 | N44: ='POSEBNI DIO'!G89 -> 8000 | O44: ='POSEBNI DIO'!H89 -> 8000
B45: 45 | D45: Rashodi za dodatna ulaganja na nefinancijskoj imovini | I45: =I46+I47 -> 0 | J45: =J46+J47 -> 13000 | K45: =K46+K47 -> 0 | L45: =L46+L47 -> 0 | M45: =M46+M47 -> 0 | N45: =N46+N47 -> 0 | O45: =O46+O47 -> 0
C46: 1.1. | D46: Opći prihodi i primici | E46: ='[1]POSEBNI DIO'!E80+'[1]POSEBNI DIO'!E98 -> #REF! | F46: ='[1]POSEBNI DIO'!F80+'[1]POSEBNI DIO'!F98 -> #REF! | G46: ='[1]POSEBNI DIO'!G80+'[1]POSEBNI DIO'!G98 -> #REF! | H46: ='[1]POSEBNI DIO'!H80+'[1]POSEBNI DIO'!H98 -> #REF! | I46: ='[1]POSEBNI DIO'!J83 -> 0 | J46: ='[1]POSEBNI DIO'!K83 -> 13000 | K46: ='[1]POSEBNI DIO'!L83 -> 0 | L46: ='POSEBNI DIO'!E84 -> 0 | M46: ='POSEBNI DIO'!F84 -> 0 | N46: ='POSEBNI DIO'!G84 -> 0 | O46: ='POSEBNI DIO'!H84 -> 0
...

Sheet Rashodi prema funkcijskoj kl
A1: FINANCIJSKI PLAN GRADSKE KNJIŽNICE I ČITAONICE LIPIK ZA 2026. I PROJEKCIJA ZA 2027. I 2028. GODINU
A3: I. OPĆI DIO
A5: A. RAČUN PRIHODA I RASHODA
A7: RASHODI PREMA FUNKCIJSKOJ KLASIFIKACIJI
A9: BROJČANA OZNAKA I NAZIV | B9: Izvršenje 2021.- kn | C9: Izvršenje 2021. | D9: Plan 2022.- kn | E9: Plan 2022. | F9: Plan za 2023. | G9: Povećanje / smanjenje | H9: Izvršenje 2024. | I9: Plan 2025. | J9: Plan za 2026. | K9: Projekcija za 2027. | L9: Projekcija za 2028.
A10: UKUPNI RASHODI | C10: =C11 -> #REF! | E10: =E11 -> #REF! | F10: =F11 -> #REF! | G10: =G11 -> #REF! | H10: =H11 -> #REF! | I10: =I11 -> 54150 | J10: =J11 -> 78050 | K10: =K11 -> 84050 | L10: =L11 -> 89150
A11: 08 Rekreacija,kultura i religija | B11: =B12 -> #REF! | C11: =C12 -> #REF! | D11: =D12 -> #REF! | E11: =E12 -> #REF! | F11: =F12 -> #REF! | G11: =G12 -> #REF! | H11: =H12 -> #REF! | I11: =I12 -> 54150 | ... L11: =L12 -> 89150
A12: 082 Službe kulture | B12: ='POSEBNI DIO'!#REF! -> #REF! | C12: ='POSEBNI DIO'!#REF! -> #REF! | D12: ='POSEBNI DIO'!#REF! -> #REF! | E12: ='POSEBNI DIO'!#REF! -> #REF! | F12: ='POSEBNI DIO'!#REF! -> #REF! | G12: ='POSEBNI DIO'!#REF! -> #REF! | H12: ='POSEBNI DIO'!#REF! -> #REF! | I12: ='POSEBNI DIO'!E8 -> 54150 | J12: ='POSEBNI DIO'!F8 -> 78050 | K12: ='POSEBNI DIO'!G8 -> 84050 | L12: ='POSEBNI DIO'!H8 -> 89150
A13: 01 Opće javne usluge
A14: 011 Izvršna i zakonodavna tijela, financijski i fiskalni poslovi
A15: 013 Opće usluge
A16: 04 Ekonomski poslovi
A17: 041 Opći ekonomski, trgovački i poslovi vezani uz rad

Sheet Račun financiranja
A1: FINANCIJSKI PLAN GRADSKE KNJIŽNICE I ČITAONICE LIPIK ZA 2026. I PROJEKCIJA ZA 2027. I 2028. GODINU
A3: I. OPĆI DIO
A5: B. RAČUN FINANCIRANJA
A7: Razred | B7: Skupina | C7: Izvor | D7: Naziv | E7: Izvršenje 2024. | F7: Plan 2025. | G7: Plan za 2026. | H7: Projekcija za 2027. | I7: Projekcija za 2028.
A8: 8 | D8: Primici od financijske imovine i zaduživanja | E8: 0 | F8: 0 | G8: 0 | H8: 0 | I8: 0
B9: 84 | D9: Primici od zaduživanja | E9: 0 | F9: 0 | G9: 0 | H9: 0 | I9: 0
C10: 81 | D10: Namjenski primici od zaduživanja | E10: 0 | F10: 0 | G10: 0 | H10: 0 | I10: 0
A11: 5 | D11: Izdaci za financijsku imovinu i otplate zajmova | E11: 0 | F11: 0 | G11: 0 | H11: 0 | I11: 0
B12: 54 | D12: Izdaci za otplatu glavnice primljenih kredita i zajmova | E12: 0 | F12: 0 | G12: 0 | H12: 0 | I12: 0
C13: 11 | D13: Opći prihodi i primici | E13: 0 | F13: 0 | G13: 0 | H13: 0 | I13: 0
C14: 31 | D14: Vlastiti prihodi | E14: 0 | F14: 0 | G14: 0 | H14: 0 | I14: 0

Sheet POSEBNI DIO
A1: FINANCIJSKI PLAN GRADSKE KNJIŽNICE I ČITAONICE LIPIK ZA 2026. I PROJEKCIJA ZA 2027. I 2028. GODINU
A3: II. POSEBNI DIO
A5: Šifra | D5: Naziv | E5: Plan 2025. | F5: Plan za 2026. | G5: Projekcija za 2027. | H5: Projekcija za 2028.
A6: Razdjel 003 | D6: JEDINSTVENI UPRAVNI ODJEL | E6: =E8 -> 54150 | F6: =F7 -> 78050 | G6: =G7 -> 84050 | H6: =H7 -> 89150
A7: Glava 00303 | D7: GRADSKA KNJIŽNICA I ČITAONICA LIPIK | E7: =E8 -> 54150 | F7: =F8 -> 78050 | G7: =G8 -> 84050 | H7: =H8 -> 89150
A8: PROGRAM 5000 | D8: NAZIV PROGRAMA:Promicanje kulture | E8: =E9+E10+E11 -> 54150 | F8: =F9+F10+F11 -> 78050 | G8: =G9+G10+G11 -> 84050 | H8: =H9+H10+H11 -> 89150
A9: Izvor financiranja 1.1. | D9: Naziv izvora financiranja:Opći prihodi i primitci | E9: =E13+E78 -> 45550 | F9: =F13+F78 -> 69450 | G9: =G13+G78 -> 75450 | H9: =H13+H78 -> 80550
A10: Izvor financiranja 4.4. | D10: Naziv izvora financiranja:Prihodi za posebne namjene | E10: =E57 -> 600 | F10: =F57 -> 600 | G10: =G57 -> 600 | H10: =H57 -> 600
A11: Izvor financiranja 5.0. | D11: Naziv izvora financiranja:Ostale pomoći | E11: =E65+E87 -> 8000 | F11: =F65+F87 -> 8000 | G11: =G65+G87 -> 8000 | H11: =H65+H87 -> 8000
A12: Aktivnost A5000 01 | D12: NAZIV AKTIVNOSTI:Administrativno, tehničko i stručno osoblje | E12: =E14+E58 -> 46150 | F12: =F14+F58 -> 68050 | G12: =G14+G58 -> 74050 | H12: =H14+H58 -> 79150
A13: Izvor financiranja 1.1. | D13: Naziv izvora financiranja:Opći prihodi i primitci | E13: =E14 -> 45550 | F13: =F14 -> 67450 | G13: =G14 -> 73450 | H13: =H14 -> 78550
A14: 3 | D14: Rashodi poslovanja | E14: =E15+E23+E53 -> 45550 | F14: =F15+F23+F53 -> 67450 | G14: =G15+G23+G53 -> 73450 | H14: =H15+H23+H53 -> 78550
A15: 31 | D15: Rashodi za zaposlene | E15: =E16+E18+E21 -> 32100 | F15: =F16+F18+F21 -> 53600 | G15: =G16+G18+G21 -> 58900 | H15: =H16+H18+H21 -> 64700
A16: 311 | D16: Plaće (Bruto) | E16: 26700 | F16: =F17 -> 45000 | G16: =G17 -> 49500 | H16: =H17 -> 54500
A17: 3111 | D17: Plaće (Bruto) | F17: 45000 | G17: 49500 | H17: 54500
A18: 312 | D18: Ostali rashodi za zaposlene | E18: 1000 | F18: =F19+F20 -> 1200 | G18: =G19+G20 -> 1200 | H18: =H19+H20 -> 1200
A19: 31216 | D19: Regres | F19: 400 | G19: 400 | H19: 400
A20: 31219 | D20: Darovi djeci zaposlenika i nagrada | F20: 800 | G20: 800 | H20: 800
A21: 313 | D21: Doprinosi na plaće | E21: 4400 | F21: =F22 -> 7400 | G21: =G22 -> 8200 | H21: =H22 -> 9000
A22: 3132 | D22: Doprinos za zdravstveno osiguranje | F22: 7400 | G22: 8200 | H22: 9000
A23: 32 | D23: Materijalni rashodi | E23: =E24+E29+E36+E47 -> 13450 | F23: =F24+F29+F36+F47 -> 13850 | G23: =G24+G29+G36+G47 -> 14550 | H23: =H24+H29+H36+H47 -> 13850
A24: 321 | D24: Naknade troškova zaposlenima | E24: 900 | F24: =SUM(F25:F28) -> 1300 | G24: =SUM(G25:G28) -> 1300 | H24: =SUM(H25:H28) -> 1300
A25: 32111 | D25: Dnevnice za službeni put | F25: 200 | G25: 200 | H25: 200
A26: 32119 | D26: Ostali troškovi službenih putovanja | F26: 0 | G26: 0 | H26: 0
A27: 32121 | D27: Naknade za prijevoz | F27: 1000 | G27: 1000 | H27: 1000
A28: 32131 | D28: Stručno usavršavanje zaposlenika | F28: 100 | G28: 100 | H28: 100
A29: 322 | D29: Rashodi za materijal i energiju | E29: 3700 | F29: =SUM(F30:F35) -> 3300 | G29: =SUM(G30:G35) -> 3300 | H29: =SUM(H30:H35) -> 3300
A30: 3221 | D30: Uredski materijal i ostali materijalni rashodi | F30: 200 | G30: 200 | H30: 200
A31: 3222 | D31: Materijal i sirovine | F31: 600 | G31: 600 | H31: 600
A32: 3222 | D32: Materijal i sirovine | E32: 0 | F32: 0 | G32: 0 | H32: 0
A33: 32231 | D33: Potrošak el.energije za zgradu | F33: 600 | G33: 600 | H33: 600
A34: 32233 | D34: Potrošak plina za zgradu | F34: 1600 | G34: 1600 | H34: 1600
A35: 3225 | D35: Sitan inventar | F35: 300 | G35: 300 | H35: 300
A36: 323 | D36: Rashodi za usluge | E36: 6300 | F36: =SUM(F37:F46) -> 6700 | G36: =SUM(G37:G46) -> 7400 | H36: =SUM(H37:H46) -> 6700
A37: 3231 | D37: Troškovi telefona i telefaksa,poštarina | F37: 250 | G37: 250 | H37: 250
A38: 3232 | D38: Ost.usl.tek. i invest. održavanja-zgrada | F38: 150 | G38: 150 | H38: 150
A39: 3233 | D39: Usluge promidžbe i informiranja | F39: 1000 | G39: 1000 | H39: 1000
A40: 32341 | D40: Potrošak vode u zgradi | F40: 400 | G40: 400 | H40: 400
A41: 32342 | D41: Odvoz smeća iz zgrade | F41: 400 | G41: 400 | H41: 400
A42: 3236 | D42: Zdravstvene i vet. usluge, laboratorijske usluge | F42: 0 | G42: 700 | H42: 0
...
